BEGIN:VCALENDAR
VERSION:2.0
PRODID:-//PMIG//Veranstaltungen//DE
CALSCALE:GREGORIAN
METHOD:PUBLISH
BEGIN:VEVENT
UID:submission-55496b9e-965a-4b07-93fd-4b8dc1201bb9@portraitsmadeingermany.de
DTSTAMP:20260421T123540Z
DTSTART:20260424T000000Z
DTEND:20260927T235959Z
SUMMARY:World Press Photo Exhibition
URL:https://portraitsmadeingermany.de/veranstaltungen/world-press-photo-exhibition-55496b9e
LOCATION:Amsterdam · Netherlands
DESCRIPTION:exhibition|exhibition|france-benelux\n\nMehr Infos: https://www.worldpressphoto.org/calendar/2026/amsterdam-the-netherlands
END:VEVENT
END:VCALENDAR
