BEGIN:VCALENDAR
VERSION:2.0
PRODID:-//PMIG//Veranstaltungen//DE
CALSCALE:GREGORIAN
METHOD:PUBLISH
BEGIN:VEVENT
UID:submission-659f0caa-9331-4bce-ada0-5e9beae10954@portraitsmadeingermany.de
DTSTAMP:20260421T140217Z
DTSTART:20260829T000000Z
DTEND:20260913T235959Z
SUMMARY:Visa pour l’Image
URL:https://portraitsmadeingermany.de/veranstaltungen/visa-pour-l-image-659f0caa
LOCATION:Perpignan · France
DESCRIPTION:festival|festival|france-benelux\n\nMehr Infos: https://visapourlimage.com/en/
END:VEVENT
END:VCALENDAR
