BEGIN:VCALENDAR
VERSION:2.0
PRODID:-//PMIG//Veranstaltungen//DE
CALSCALE:GREGORIAN
METHOD:PUBLISH
BEGIN:VEVENT
UID:submission-cc6ba38c-0675-4132-8abb-1f2bd63f967a@portraitsmadeingermany.de
DTSTAMP:20260421T140033Z
DTSTART:20270313T000000Z
DTEND:20270316T235959Z
SUMMARY:The Photography & Video Show
URL:https://portraitsmadeingermany.de/veranstaltungen/the-photography-video-show-cc6ba38c
LOCATION:London · UK
DESCRIPTION:trade-fair|trade-fair|uk-ireland\n\nMehr Infos: https://www.photographyshow.com/
END:VEVENT
END:VCALENDAR
