BEGIN:VCALENDAR
VERSION:2.0
PRODID:-//PMIG//Veranstaltungen//DE
CALSCALE:GREGORIAN
METHOD:PUBLISH
BEGIN:VEVENT
UID:submission-2974dbde-1ae6-4a2f-a928-e59e2293ef7d@portraitsmadeingermany.de
DTSTAMP:20260421T140959Z
DTSTART:20260522T000000Z
DTEND:20260524T235959Z
SUMMARY:The Phair
URL:https://portraitsmadeingermany.de/veranstaltungen/the-phair-2974dbde
LOCATION:Turin · Italy
DESCRIPTION:art-fair|art-fair|southern-europe\n\nMehr Infos: https://www.thephair.com/en/homepage_en/
END:VEVENT
END:VCALENDAR
