BEGIN:VCALENDAR
VERSION:2.0
PRODID:-//PMIG//Veranstaltungen//DE
CALSCALE:GREGORIAN
METHOD:PUBLISH
BEGIN:VEVENT
UID:submission-faf2d459-6ef4-404b-81c7-62a3c97cffb3@portraitsmadeingermany.de
DTSTAMP:20260421T141355Z
DTSTART:20261001T000000Z
DTEND:20261018T235959Z
SUMMARY:Revela’T
URL:https://portraitsmadeingermany.de/veranstaltungen/revela-t-faf2d459
LOCATION:Vilassar de Dalt · Spain
DESCRIPTION:festival|festival|southern-europe\n\nMehr Infos: https://revela-t.cat/en/
END:VEVENT
END:VCALENDAR
