BEGIN:VCALENDAR
VERSION:2.0
PRODID:-//PMIG//Veranstaltungen//DE
CALSCALE:GREGORIAN
METHOD:PUBLISH
BEGIN:VEVENT
UID:submission-b08c54d6-104e-4148-87c8-bf6a0b1c5fad@portraitsmadeingermany.de
DTSTAMP:20260421T124416Z
DTSTART:20260424T000000Z
DTEND:20260426T235959Z
SUMMARY:Photobooks Switzerland
URL:https://portraitsmadeingermany.de/veranstaltungen/photobooks-switzerland-b08c54d6
LOCATION:Geneva · Switzerland
DESCRIPTION:festival|photobook-fair|dach\n\nMehr Infos: https://www.centrephotogeneve.ch/exhibitions/photobooks-switzerland-2026
END:VEVENT
END:VCALENDAR
