BEGIN:VCALENDAR
VERSION:2.0
PRODID:-//PMIG//Veranstaltungen//DE
CALSCALE:GREGORIAN
METHOD:PUBLISH
BEGIN:VEVENT
UID:submission-10f1411e-f3a0-4157-a2b3-a0ea96797e26@portraitsmadeingermany.de
DTSTAMP:20260421T123318Z
DTSTART:20260514T000000Z
DTEND:20260517T235959Z
SUMMARY:Photo Münsingen
URL:https://portraitsmadeingermany.de/veranstaltungen/photo-munsingen-10f1411e
LOCATION:Münsingen · Switzerland
DESCRIPTION:festival|festival|dach\n\nMehr Infos: https://photomuensingen.ch/phm2026/
END:VEVENT
END:VCALENDAR
