BEGIN:VCALENDAR
VERSION:2.0
PRODID:-//PMIG//Veranstaltungen//DE
CALSCALE:GREGORIAN
METHOD:PUBLISH
BEGIN:VEVENT
UID:submission-cd26722e-c070-474b-a921-c0c47b3eebfc@portraitsmadeingermany.de
DTSTAMP:20260421T123453Z
DTSTART:20260513T000000Z
DTEND:20260517T235959Z
SUMMARY:Photo London
URL:https://portraitsmadeingermany.de/veranstaltungen/photo-london-cd26722e
LOCATION:London · UK
DESCRIPTION:art-fair|art-fair|uk-ireland\n\nMehr Infos: https://photolondon.org/
END:VEVENT
END:VCALENDAR
