BEGIN:VCALENDAR
VERSION:2.0
PRODID:-//PMIG//Veranstaltungen//DE
CALSCALE:GREGORIAN
METHOD:PUBLISH
BEGIN:VEVENT
UID:submission-e0f7a0fb-f02e-4d76-b3f4-c32173a3296d@portraitsmadeingermany.de
DTSTAMP:20260421T140221Z
DTSTART:20260616T000000Z
DTEND:20260621T235959Z
SUMMARY:photo basel
URL:https://portraitsmadeingermany.de/veranstaltungen/photo-basel-e0f7a0fb
LOCATION:Basel · Switzerland
DESCRIPTION:art-fair|art-fair|dach\n\nMehr Infos: https://www.photo-basel.com/
END:VEVENT
END:VCALENDAR
