BEGIN:VCALENDAR
VERSION:2.0
PRODID:-//PMIG//Veranstaltungen//DE
CALSCALE:GREGORIAN
METHOD:PUBLISH
BEGIN:VEVENT
UID:submission-15c3ebde-f6f1-4610-8831-25abece3dfcf@portraitsmadeingermany.de
DTSTAMP:20260421T141203Z
DTSTART:20261112T000000Z
DTEND:20261115T235959Z
SUMMARY:Paris Photo
URL:https://portraitsmadeingermany.de/veranstaltungen/paris-photo-15c3ebde
LOCATION:Paris · France
DESCRIPTION:art-fair|art-fair|france-benelux\n\nMehr Infos: https://www.parisphoto.com/en-gb.html
END:VEVENT
END:VCALENDAR
