BEGIN:VCALENDAR
VERSION:2.0
PRODID:-//PMIG//Veranstaltungen//DE
CALSCALE:GREGORIAN
METHOD:PUBLISH
BEGIN:VEVENT
UID:submission-847f44d5-f0af-4f6e-b8e9-d8c6ea5837fc@portraitsmadeingermany.de
DTSTAMP:20260421T141114Z
DTSTART:20260706T000000Z
DTEND:20261004T235959Z
SUMMARY:Les Rencontres d’Arles
URL:https://portraitsmadeingermany.de/veranstaltungen/les-rencontres-d-arles-847f44d5
LOCATION:Arles · France
DESCRIPTION:festival|festival|france-benelux\n\nMehr Infos: https://www.rencontres-arles.com/en
END:VEVENT
END:VCALENDAR
