BEGIN:VCALENDAR
VERSION:2.0
PRODID:-//PMIG//Veranstaltungen//DE
CALSCALE:GREGORIAN
METHOD:PUBLISH
BEGIN:VEVENT
UID:submission-47c886c9-02b6-4116-b857-e49e0c65e0c7@portraitsmadeingermany.de
DTSTAMP:20260421T123253Z
DTSTART:20260509T000000Z
DTEND:20260531T235959Z
SUMMARY:Les Boutographies
URL:https://portraitsmadeingermany.de/veranstaltungen/les-boutographies-47c886c9
LOCATION:Montpellier · France
DESCRIPTION:festival|festival|france-benelux\n\nMehr Infos: https://www.boutographies.com/en/
END:VEVENT
END:VCALENDAR
