BEGIN:VCALENDAR
VERSION:2.0
PRODID:-//PMIG//Veranstaltungen//DE
CALSCALE:GREGORIAN
METHOD:PUBLISH
BEGIN:VEVENT
UID:submission-ccfb6fab-f434-4bf6-ad5b-feb090b2b9a0@portraitsmadeingermany.de
DTSTAMP:20260421T123207Z
DTSTART:20260508T000000Z
DTEND:20260510T235959Z
SUMMARY:Leica Experience Days
URL:https://portraitsmadeingermany.de/veranstaltungen/leica-experience-days-ccfb6fab
LOCATION:Wetzlar · Germany
DESCRIPTION:brand-event|brand-event|dach\n\nMehr Infos: https://leica-camera.com/de-DE/presse/fotografie-pur-bei-den-leica-experience-days
END:VEVENT
END:VCALENDAR
