BEGIN:VCALENDAR
VERSION:2.0
PRODID:-//PMIG//Veranstaltungen//DE
CALSCALE:GREGORIAN
METHOD:PUBLISH
BEGIN:VEVENT
UID:submission-6c8c250c-1ed3-4c7f-86ff-f78c01be25ff@portraitsmadeingermany.de
DTSTAMP:20260421T123420Z
DTSTART:20260508T000000Z
DTEND:20260510T235959Z
SUMMARY:Leica Experience Days 2026
URL:https://portraitsmadeingermany.de/veranstaltungen/leica-experience-days-2026-6c8c250c
LOCATION:Leica Welt · Wetzlar · Deutschland
DESCRIPTION:Vorträge\;Workshops\;Touren\;Technik-Talks\;Kamera- und Objektivverleih\n\nMehr Infos: https://leicawelt.com/veranstaltungen/experience-days-2026
END:VEVENT
END:VCALENDAR
