BEGIN:VCALENDAR
VERSION:2.0
PRODID:-//PMIG//Veranstaltungen//DE
CALSCALE:GREGORIAN
METHOD:PUBLISH
BEGIN:VEVENT
UID:submission-0fcc9eaf-6f31-4ffb-8e4f-8e595face220@portraitsmadeingermany.de
DTSTAMP:20260421T123637Z
DTSTART:20260508T000000Z
DTEND:20260509T235959Z
SUMMARY:Kücher Sommer Fotomesse – Salzburg
URL:https://portraitsmadeingermany.de/veranstaltungen/kucher-sommer-fotomesse-salzburg-0fcc9eaf
LOCATION:Salzburg · Austria
DESCRIPTION:gear-retail|dealer-house-fair|dach\n\nMehr Infos: https://www.kuecher.com/unsere-grosse-sommer-fotomesse-2026-sw10034
END:VEVENT
END:VCALENDAR
