BEGIN:VCALENDAR
VERSION:2.0
PRODID:-//PMIG//Veranstaltungen//DE
CALSCALE:GREGORIAN
METHOD:PUBLISH
BEGIN:VEVENT
UID:submission-176fe43f-c577-46da-a479-c98cb5bc2924@portraitsmadeingermany.de
DTSTAMP:20260421T123730Z
DTSTART:20260424T000000Z
DTEND:20260425T235959Z
SUMMARY:Kamera Express Foto Festival – Hamburg
URL:https://portraitsmadeingermany.de/veranstaltungen/kamera-express-foto-festival-hamburg-176fe43f
LOCATION:Hamburg · Germany
DESCRIPTION:gear-retail|dealer-house-fair|dach\n\nMehr Infos: https://www.kamera-express.de/foto-festival
END:VEVENT
END:VCALENDAR
