BEGIN:VCALENDAR
VERSION:2.0
PRODID:-//PMIG//Veranstaltungen//DE
CALSCALE:GREGORIAN
METHOD:PUBLISH
BEGIN:VEVENT
UID:submission-1d51f292-60ba-4520-9f13-000c6d0d7455@portraitsmadeingermany.de
DTSTAMP:20260421T123638Z
DTSTART:20260424T000000Z
DTEND:20260426T235959Z
SUMMARY:Internationale Fürstenfelder Naturfototage
URL:https://portraitsmadeingermany.de/veranstaltungen/internationale-furstenfelder-naturfototage-1d51f292
LOCATION:Fürstenfeldbruck · Germany
DESCRIPTION:festival|festival-market|dach\n\nMehr Infos: https://www.fuerstenfelder-naturfototage.com/
END:VEVENT
END:VCALENDAR
