BEGIN:VCALENDAR
VERSION:2.0
PRODID:-//PMIG//Veranstaltungen//DE
CALSCALE:GREGORIAN
METHOD:PUBLISH
BEGIN:VEVENT
UID:submission-f65edbb5-868e-49bd-a3b2-eeb4ef2baa59@portraitsmadeingermany.de
DTSTAMP:20260421T123356Z
DTSTART:20261002T000000Z
DTEND:20261004T235959Z
SUMMARY:Imaging World 2026
URL:https://portraitsmadeingermany.de/veranstaltungen/imaging-world-2026-f65edbb5
LOCATION:Messezentrum Nürnberg · Nürnberg · Deutschland
DESCRIPTION:Kameras\;Objektive\;Imaging\;Workshops\;Live-Programm\n\nMehr Infos: https://imagingworld.de/en/
END:VEVENT
END:VCALENDAR
