BEGIN:VCALENDAR
VERSION:2.0
PRODID:-//PMIG//Veranstaltungen//DE
CALSCALE:GREGORIAN
METHOD:PUBLISH
BEGIN:VEVENT
UID:submission-95623276-9b02-4fe9-82cf-0f3e8134b4cd@portraitsmadeingermany.de
DTSTAMP:20260421T141203Z
DTSTART:20260528T000000Z
DTEND:20260621T235959Z
SUMMARY:Getxophoto
URL:https://portraitsmadeingermany.de/veranstaltungen/getxophoto-95623276
LOCATION:Getxo · Spain
DESCRIPTION:festival|festival|southern-europe\n\nMehr Infos: https://www.getxophoto.com/en/
END:VEVENT
END:VCALENDAR
