BEGIN:VCALENDAR
VERSION:2.0
PRODID:-//PMIG//Veranstaltungen//DE
CALSCALE:GREGORIAN
METHOD:PUBLISH
BEGIN:VEVENT
UID:submission-cba0fec3-ccd2-4ae2-9856-837df79617e5@portraitsmadeingermany.de
DTSTAMP:20260421T141841Z
DTSTART:20261023T000000Z
DTEND:20261025T235959Z
SUMMARY:GDT International Nature Photography Festival
URL:https://portraitsmadeingermany.de/veranstaltungen/gdt-international-nature-photography-festival-cba0fec3
LOCATION:Lünen · Germany
DESCRIPTION:festival|festival-market|dach\n\nMehr Infos: https://www.gdtfoto.de/seiten/events_.html
END:VEVENT
END:VCALENDAR
