BEGIN:VCALENDAR
VERSION:2.0
PRODID:-//PMIG//Veranstaltungen//DE
CALSCALE:GREGORIAN
METHOD:PUBLISH
BEGIN:VEVENT
UID:submission-67a13f0a-fa0a-464f-b986-4e9c6176ef42@portraitsmadeingermany.de
DTSTAMP:20260421T123731Z
DTSTART:20260508T000000Z
DTEND:20260509T235959Z
SUMMARY:Fototage XXL 2026 | Foto Koch
URL:https://portraitsmadeingermany.de/veranstaltungen/fototage-xxl-2026-foto-koch-67a13f0a
LOCATION:Foto Koch · Düsseldorf · Deutschland
DESCRIPTION:Canon\;Fotoevent\;Testen\n\nMehr Infos: https://www.academy.canon.de/de_DE/events
END:VEVENT
END:VCALENDAR
