BEGIN:VCALENDAR
VERSION:2.0
PRODID:-//PMIG//Veranstaltungen//DE
CALSCALE:GREGORIAN
METHOD:PUBLISH
BEGIN:VEVENT
UID:submission-d034092d-dedd-4d7d-a324-f2209713ba78@portraitsmadeingermany.de
DTSTAMP:20260421T123557Z
DTSTART:20260425T000000Z
DTEND:20260425T235959Z
SUMMARY:Fotoprofi Fototage 3.0
URL:https://portraitsmadeingermany.de/veranstaltungen/fotoprofi-fototage-3-0-d034092d
LOCATION:Ludwigsburg · Germany
DESCRIPTION:gear-retail|dealer-house-fair|dach\n\nMehr Infos: https://www.fotoprofi.de/page/fototage
END:VEVENT
END:VCALENDAR
