BEGIN:VCALENDAR
VERSION:2.0
PRODID:-//PMIG//Veranstaltungen//DE
CALSCALE:GREGORIAN
METHOD:PUBLISH
BEGIN:VEVENT
UID:submission-b056831d-3f90-42a9-a5f9-e4aa4dc13b74@portraitsmadeingermany.de
DTSTAMP:20260421T141228Z
DTSTART:20260924T000000Z
DTEND:20260926T235959Z
SUMMARY:Fotomesse Tirol
URL:https://portraitsmadeingermany.de/veranstaltungen/fotomesse-tirol-b056831d
LOCATION:Innsbruck · Austria
DESCRIPTION:gear-retail|dealer-house-fair|dach\n\nMehr Infos: https://fotomesse.tirol/
END:VEVENT
END:VCALENDAR
