BEGIN:VCALENDAR
VERSION:2.0
PRODID:-//PMIG//Veranstaltungen//DE
CALSCALE:GREGORIAN
METHOD:PUBLISH
BEGIN:VEVENT
UID:submission-49f8840a-c9e0-4cef-94e7-f033d42c78db@portraitsmadeingermany.de
DTSTAMP:20260421T123453Z
DTSTART:20260430T000000Z
DTEND:20260614T235959Z
SUMMARY:Fotografia Europea
URL:https://portraitsmadeingermany.de/veranstaltungen/fotografia-europea-49f8840a
LOCATION:Reggio Emilia · Italy
DESCRIPTION:festival|festival|southern-europe\n\nMehr Infos: https://www.fotografiaeuropea.it/en/
END:VEVENT
END:VCALENDAR
