BEGIN:VCALENDAR
VERSION:2.0
PRODID:-//PMIG//Veranstaltungen//DE
CALSCALE:GREGORIAN
METHOD:PUBLISH
BEGIN:VEVENT
UID:submission-dbac121f-7e84-47d4-bdc6-b10bba197c60@portraitsmadeingermany.de
DTSTAMP:20260421T141403Z
DTSTART:20260618T000000Z
DTEND:20260628T235959Z
SUMMARY:Fotofestiwal Łódź
URL:https://portraitsmadeingermany.de/veranstaltungen/fotofestiwal-odz-dbac121f
LOCATION:Łódź · Poland
DESCRIPTION:festival|festival|central-eastern-europe\n\nMehr Infos: https://fotofestiwal.com/2026/en/
END:VEVENT
END:VCALENDAR
