BEGIN:VCALENDAR
VERSION:2.0
PRODID:-//PMIG//Veranstaltungen//DE
CALSCALE:GREGORIAN
METHOD:PUBLISH
BEGIN:VEVENT
UID:submission-d470dd13-b811-4c6f-94ba-73f919e89195@portraitsmadeingermany.de
DTSTAMP:20260421T123637Z
DTSTART:20260508T000000Z
DTEND:20260509T235959Z
SUMMARY:Foto Koch Fototage XXL
URL:https://portraitsmadeingermany.de/veranstaltungen/foto-koch-fototage-xxl-d470dd13
LOCATION:Düsseldorf · Germany
DESCRIPTION:gear-retail|dealer-house-fair|dach\n\nMehr Infos: https://www.fotokoch.de/fototage.html
END:VEVENT
END:VCALENDAR
