BEGIN:VCALENDAR
VERSION:2.0
PRODID:-//PMIG//Veranstaltungen//DE
CALSCALE:GREGORIAN
METHOD:PUBLISH
BEGIN:VEVENT
UID:submission-0016c7db-880e-4374-b0c4-70081d18b421@portraitsmadeingermany.de
DTSTAMP:20260421T123557Z
DTSTART:20260424T000000Z
DTEND:20260425T235959Z
SUMMARY:Foto Erhardt Hausmesse – Hildesheim
URL:https://portraitsmadeingermany.de/veranstaltungen/foto-erhardt-hausmesse-hildesheim-0016c7db
LOCATION:Hildesheim · Germany
DESCRIPTION:gear-retail|dealer-house-fair|dach\n\nMehr Infos: https://www.foto-erhardt.de/hausmessen.html
END:VEVENT
END:VCALENDAR
