BEGIN:VCALENDAR
VERSION:2.0
PRODID:-//PMIG//Veranstaltungen//DE
CALSCALE:GREGORIAN
METHOD:PUBLISH
BEGIN:VEVENT
UID:submission-7164c27a-bb83-4611-9378-4d61cb36976d@portraitsmadeingermany.de
DTSTAMP:20260421T123557Z
DTSTART:20260425T000000Z
DTEND:20260425T235959Z
SUMMARY:European Camera Trade Show – Berlin
URL:https://portraitsmadeingermany.de/veranstaltungen/european-camera-trade-show-berlin-7164c27a
LOCATION:Berlin · Germany
DESCRIPTION:gear-retail|camera-bourse|dach\n\nMehr Infos: https://www.camera-trade-shows.de/html/show-dates.html
END:VEVENT
END:VCALENDAR
