BEGIN:VCALENDAR
VERSION:2.0
PRODID:-//PMIG//Veranstaltungen//DE
CALSCALE:GREGORIAN
METHOD:PUBLISH
BEGIN:VEVENT
UID:submission-1a6a371d-1112-4e87-99be-40b4fd8dbada@portraitsmadeingermany.de
DTSTAMP:20260421T141228Z
DTSTART:20260918T000000Z
DTEND:20261101T235959Z
SUMMARY:Encontros da Imagem
URL:https://portraitsmadeingermany.de/veranstaltungen/encontros-da-imagem-1a6a371d
LOCATION:Braga and northern Portugal · Portugal
DESCRIPTION:festival|festival|southern-europe\n\nMehr Infos: https://encontrosdaimagem.com/2025/pt/
END:VEVENT
END:VCALENDAR
