BEGIN:VCALENDAR
VERSION:2.0
PRODID:-//PMIG//Veranstaltungen//DE
CALSCALE:GREGORIAN
METHOD:PUBLISH
BEGIN:VEVENT
UID:submission-1268b6df-51a0-4326-ba2a-600d86bd7256@portraitsmadeingermany.de
DTSTAMP:20260421T141316Z
DTSTART:20260716T000000Z
DTEND:20261101T235959Z
SUMMARY:Cortona On The Move
URL:https://portraitsmadeingermany.de/veranstaltungen/cortona-on-the-move-1268b6df
LOCATION:Cortona · Italy
DESCRIPTION:festival|festival|southern-europe\n\nMehr Infos: https://www.cortonaonthemove.com/en/
END:VEVENT
END:VCALENDAR
