BEGIN:VCALENDAR
VERSION:2.0
PRODID:-//PMIG//Veranstaltungen//DE
CALSCALE:GREGORIAN
METHOD:PUBLISH
BEGIN:VEVENT
UID:submission-c949556c-d1f3-4066-9fb4-8e20cc1abdac@portraitsmadeingermany.de
DTSTAMP:20260421T141835Z
DTSTART:20260611T000000Z
DTEND:20260621T235959Z
SUMMARY:Copenhagen Photo Festival
URL:https://portraitsmadeingermany.de/veranstaltungen/copenhagen-photo-festival-c949556c
LOCATION:Copenhagen · Denmark
DESCRIPTION:festival|festival|nordics\n\nMehr Infos: https://copenhagenphotofestival.com/
END:VEVENT
END:VCALENDAR
