BEGIN:VCALENDAR
VERSION:2.0
PRODID:-//PMIG//Veranstaltungen//DE
CALSCALE:GREGORIAN
METHOD:PUBLISH
BEGIN:VEVENT
UID:submission-581e01a2-e059-4d52-bc15-49f5376ea96b@portraitsmadeingermany.de
DTSTAMP:20260421T140051Z
DTSTART:20260528T000000Z
DTEND:20260531T235959Z
SUMMARY:Brussels Street Photography Festival
URL:https://portraitsmadeingermany.de/veranstaltungen/brussels-street-photography-festival-581e01a2
LOCATION:Brussels · Belgium
DESCRIPTION:festival|festival|france-benelux\n\nMehr Infos: https://www.bspfestival.org/
END:VEVENT
END:VCALENDAR
