BEGIN:VCALENDAR
VERSION:2.0
PRODID:-//PMIG//Veranstaltungen//DE
CALSCALE:GREGORIAN
METHOD:PUBLISH
BEGIN:VEVENT
UID:submission-b832ea9d-6468-4227-8b9d-e922d078073d@portraitsmadeingermany.de
DTSTAMP:20260421T141530Z
DTSTART:20260911T000000Z
DTEND:20261025T235959Z
SUMMARY:BredaPhoto Festival
URL:https://portraitsmadeingermany.de/veranstaltungen/bredaphoto-festival-b832ea9d
LOCATION:Breda · Netherlands
DESCRIPTION:festival|festival|france-benelux\n\nMehr Infos: https://bredaphoto.nl/bredaphotofestival/
END:VEVENT
END:VCALENDAR
