BEGIN:VCALENDAR
VERSION:2.0
PRODID:-//PMIG//Veranstaltungen//DE
CALSCALE:GREGORIAN
METHOD:PUBLISH
BEGIN:VEVENT
UID:submission-4c5999e0-0b80-4cc8-aeed-691681679cae@portraitsmadeingermany.de
DTSTAMP:20260421T123730Z
DTSTART:20260509T000000Z
DTEND:20260531T235959Z
SUMMARY:Bieler Fototage / Journées photographiques de Bienne
URL:https://portraitsmadeingermany.de/veranstaltungen/bieler-fototage-journees-photographiques-de-bienne-4c5999e0
LOCATION:Biel/Bienne · Switzerland
DESCRIPTION:festival|festival|dach\n\nMehr Infos: https://bielerfototage.ch/en/
END:VEVENT
END:VCALENDAR
