BEGIN:VCALENDAR
VERSION:2.0
PRODID:-//PMIG//Veranstaltungen//DE
CALSCALE:GREGORIAN
METHOD:PUBLISH
BEGIN:VEVENT
UID:submission-178ef866-0dbc-48c0-a551-bab433ed16a5@portraitsmadeingermany.de
DTSTAMP:20260421T141739Z
DTSTART:20260604T000000Z
DTEND:20260630T235959Z
SUMMARY:Belfast Photo Festival
URL:https://portraitsmadeingermany.de/veranstaltungen/belfast-photo-festival-178ef866
LOCATION:Belfast · UK
DESCRIPTION:festival|festival|uk-ireland\n\nMehr Infos: https://www.belfastphotofestival.com/
END:VEVENT
END:VCALENDAR
