BEGIN:VCALENDAR
VERSION:2.0
PRODID:-//PMIG//Veranstaltungen//DE
CALSCALE:GREGORIAN
METHOD:PUBLISH
BEGIN:VEVENT
UID:submission-1394cfff-8575-4090-a48b-d57b9d1db7da@portraitsmadeingermany.de
DTSTAMP:20260421T123447Z
DTSTART:20260508T000000Z
DTEND:20260510T235959Z
SUMMARY:Art Photo Bcn
URL:https://portraitsmadeingermany.de/veranstaltungen/art-photo-bcn-1394cfff
LOCATION:Barcelona · Spain
DESCRIPTION:festival|festival-fair|southern-europe\n\nMehr Infos: https://artphotobcn.com/en/home/
END:VEVENT
END:VCALENDAR
